BEGIN:VCALENDAR
VERSION:2.0
PRODID:spatie/icalendar-generator
DESCRIPTION:Händelser från Runmarö Hembygdsförening
X-WR-CALDESC:Händelser från Runmarö Hembygdsförening
REFRESH-INTERVAL;VALUE=DURATION:PT1440M
X-PUBLISHED-TTL:PT1440M
BEGIN:VTIMEZONE
TZID:Europe/Stockholm
BEGIN:DAYLIGHT
DTSTART:20250330T020000Z
TZOFFSETFROM:+0100
TZOFFSETTO:+0200
END:DAYLIGHT
BEGIN:STANDARD
DTSTART:20251026T030000Z
TZOFFSETFROM:+0200
TZOFFSETTO:+0100
END:STANDARD
END:VTIMEZONE
BEGIN:VTIMEZONE
TZID:UTC
BEGIN:STANDARD
DTSTART:20250725T082354Z
TZOFFSETFROM:+0000
TZOFFSETTO:+0000
END:STANDARD
END:VTIMEZONE
BEGIN:VEVENT
UID:329-224
DTSTAMP:20260421T082354Z
SUMMARY:Sommarbio kl 18 - se \"På gång\"
LOCATION:Hembygdsgården
ORGANIZER;CN=Lena Bengtsson:MAILTO:lena.bengtsson@me.com
DTSTART;TZID=Europe/Stockholm:20250730T183000
DTEND;TZID=Europe/Stockholm:20250730T210000
X-ALT-DESC;FMTTYPE=TEXT/HTML:
CATEGORIES:Bokat
URL;VALUE=URI:https://xn--runmarhembygdsfrening-mecj.se/verksamheter/kalend
 arium/?mc_id=329&#038;vcal=329
METHOD:PUBLISH
END:VEVENT
END:VCALENDAR