BEGIN:VCALENDAR
VERSION:2.0
PRODID:spatie/icalendar-generator
DESCRIPTION:Händelser från Runmarö Hembygdsförening
X-WR-CALDESC:Händelser från Runmarö Hembygdsförening
REFRESH-INTERVAL;VALUE=DURATION:PT1440M
X-PUBLISHED-TTL:PT1440M
BEGIN:VTIMEZONE
TZID:Europe/Stockholm
BEGIN:STANDARD
DTSTART:20241027T030000Z
TZOFFSETFROM:+0200
TZOFFSETTO:+0100
END:STANDARD
BEGIN:DAYLIGHT
DTSTART:20250330T020000Z
TZOFFSETFROM:+0100
TZOFFSETTO:+0200
END:DAYLIGHT
BEGIN:STANDARD
DTSTART:20251026T030000Z
TZOFFSETFROM:+0200
TZOFFSETTO:+0100
END:STANDARD
END:VTIMEZONE
BEGIN:VTIMEZONE
TZID:UTC
BEGIN:STANDARD
DTSTART:20250725T082443Z
TZOFFSETFROM:+0000
TZOFFSETTO:+0000
END:STANDARD
END:VTIMEZONE
BEGIN:VEVENT
UID:484-239
DTSTAMP:20260421T082443Z
SUMMARY:Öppen träningslokal kl 18-20! Kom före 19 :-)
LOCATION:Hembygdsgården
ORGANIZER;CN=Lena Bengtsson:MAILTO:lena.bengtsson@me.com
RRULE:FREQ=WEEKLY;UNTIL=20250613T000000Z
DTSTART;TZID=Europe/Stockholm:20250529T180000
DTEND;TZID=Europe/Stockholm:20250529T200000
X-ALT-DESC;FMTTYPE=TEXT/HTML:Välkomna till fri träning i salen i Hembygds
 gården. Vi tränar efter eget huvud med de redskap som vi har. Och hjälp
 s åt att plocka fram och ställa undan Om ingen vill träna efter 19\, s
 å stänger vi lokalen när vi då avslutar. Träning sker på egen risk. 
 Naturligtvis gratis för medlemmar.
CATEGORIES:Bokat
URL;VALUE=URI:https://xn--runmarhembygdsfrening-mecj.se/verksamheter/kalend
 arium/?mc_id=484&#038;vcal=484
METHOD:PUBLISH
END:VEVENT
END:VCALENDAR