BEGIN:VCALENDAR
VERSION:2.0
PRODID:spatie/icalendar-generator
DESCRIPTION:Händelser från Runmarö Hembygdsförening
X-WR-CALDESC:Händelser från Runmarö Hembygdsförening
REFRESH-INTERVAL;VALUE=DURATION:PT1440M
X-PUBLISHED-TTL:PT1440M
BEGIN:VTIMEZONE
TZID:Europe/Stockholm
BEGIN:DAYLIGHT
DTSTART:20250330T020000Z
TZOFFSETFROM:+0100
TZOFFSETTO:+0200
END:DAYLIGHT
BEGIN:STANDARD
DTSTART:20251026T030000Z
TZOFFSETFROM:+0200
TZOFFSETTO:+0100
END:STANDARD
BEGIN:DAYLIGHT
DTSTART:20260329T020000Z
TZOFFSETFROM:+0100
TZOFFSETTO:+0200
END:DAYLIGHT
END:VTIMEZONE
BEGIN:VTIMEZONE
TZID:UTC
BEGIN:STANDARD
DTSTART:20250725T082430Z
TZOFFSETFROM:+0000
TZOFFSETTO:+0000
END:STANDARD
END:VTIMEZONE
BEGIN:VEVENT
UID:539-302
DTSTAMP:20260421T082430Z
SUMMARY:Öppen träningslokal kl 17:30-19:30
LOCATION:Hembygdsgården
ORGANIZER;CN=Lena Bengtsson:MAILTO:lena.bengtsson@me.com
DTSTART;TZID=Europe/Stockholm:20251002T173000
DTEND;TZID=Europe/Stockholm:20251002T193000
X-ALT-DESC;FMTTYPE=TEXT/HTML:Nu ger vi möjlighet för alla medlemmar att t
 räna  salen med de redskap vi har. Ingen officiell ledare finns\, men vi
  hjälper varandra vid behov. Klockan 17:30 öppnar vi dörren. Om ingen 
 är kvar och tränar så stänger vi kl 18:30\, så kom i tid.
CATEGORIES:Bokat
URL;VALUE=URI:https://xn--runmarhembygdsfrening-mecj.se/verksamheter/kalend
 arium/?mc_id=539&#038;vcal=539
METHOD:PUBLISH
END:VEVENT
END:VCALENDAR