BEGIN:VCALENDAR
VERSION:2.0
PRODID:spatie/icalendar-generator
DESCRIPTION:Händelser från Runmarö Hembygdsförening
X-WR-CALDESC:Händelser från Runmarö Hembygdsförening
REFRESH-INTERVAL;VALUE=DURATION:PT1440M
X-PUBLISHED-TTL:PT1440M
BEGIN:VTIMEZONE
TZID:Europe/Stockholm
BEGIN:STANDARD
DTSTART:20251026T030000Z
TZOFFSETFROM:+0200
TZOFFSETTO:+0100
END:STANDARD
BEGIN:DAYLIGHT
DTSTART:20260329T020000Z
TZOFFSETFROM:+0100
TZOFFSETTO:+0200
END:DAYLIGHT
BEGIN:STANDARD
DTSTART:20261025T030000Z
TZOFFSETFROM:+0200
TZOFFSETTO:+0100
END:STANDARD
END:VTIMEZONE
BEGIN:VTIMEZONE
TZID:UTC
BEGIN:STANDARD
DTSTART:20250725T094621Z
TZOFFSETFROM:+0000
TZOFFSETTO:+0000
END:STANDARD
END:VTIMEZONE
BEGIN:VEVENT
UID:615-314
DTSTAMP:20260421T094621Z
SUMMARY:Gympa med fokus styrka och balans
LOCATION:Hembygdsgården
ORGANIZER;CN=Lena Bengtsson:MAILTO:lena.bengtsson@me.com
RRULE:FREQ=WEEKLY;UNTIL=20260526T000000Z
DTSTART;TZID=Europe/Stockholm:20260504T150000
DTEND;TZID=Europe/Stockholm:20260504T170000
X-ALT-DESC;FMTTYPE=TEXT/HTML:Mer info kommer på hemsidan
CATEGORIES:Bokat
URL;VALUE=URI:https://xn--runmarhembygdsfrening-mecj.se/verksamheter/kalend
 arium/?mc_id=615&#038;vcal=615
METHOD:PUBLISH
END:VEVENT
END:VCALENDAR