BEGIN:VCALENDAR
VERSION:2.0
PRODID:spatie/icalendar-generator
DESCRIPTION:Händelser från Runmarö Hembygdsförening
X-WR-CALDESC:Händelser från Runmarö Hembygdsförening
REFRESH-INTERVAL;VALUE=DURATION:PT1440M
X-PUBLISHED-TTL:PT1440M
BEGIN:VTIMEZONE
TZID:Europe/Stockholm
BEGIN:STANDARD
DTSTART:20251026T030000Z
TZOFFSETFROM:+0200
TZOFFSETTO:+0100
END:STANDARD
BEGIN:DAYLIGHT
DTSTART:20260329T020000Z
TZOFFSETFROM:+0100
TZOFFSETTO:+0200
END:DAYLIGHT
BEGIN:STANDARD
DTSTART:20261025T030000Z
TZOFFSETFROM:+0200
TZOFFSETTO:+0100
END:STANDARD
END:VTIMEZONE
BEGIN:VTIMEZONE
TZID:UTC
BEGIN:STANDARD
DTSTART:20250725T095053Z
TZOFFSETFROM:+0000
TZOFFSETTO:+0000
END:STANDARD
END:VTIMEZONE
BEGIN:VEVENT
UID:674-315
DTSTAMP:20260421T095053Z
SUMMARY:Öppen träningslokal 17:30 - 19:30
LOCATION:Hembygdsgården
ORGANIZER;CN=Lena Bengtsson:MAILTO:lena.bengtsson@me.com
RRULE:FREQ=WEEKLY;UNTIL=20260529T000000Z
DTSTART;TZID=Europe/Stockholm:20260527T173000
DTEND;TZID=Europe/Stockholm:20260527T193000
X-ALT-DESC;FMTTYPE=TEXT/HTML:Vi öppnar 17:30. Om ingen är kvar 18:30 så 
 stänger vi. Välkomna att träna efter eget huvud med de redskap vi har -
  hantlar\, gummiband\, m.m. Alla välkomna!
CATEGORIES:Bokat
URL;VALUE=URI:https://xn--runmarhembygdsfrening-mecj.se/verksamheter/kalend
 arium/?mc_id=674&#038;vcal=674
METHOD:PUBLISH
END:VEVENT
END:VCALENDAR