BEGIN:VCALENDAR
VERSION:2.0
PRODID:spatie/icalendar-generator
DESCRIPTION:Händelser från Runmarö Hembygdsförening
X-WR-CALDESC:Händelser från Runmarö Hembygdsförening
REFRESH-INTERVAL;VALUE=DURATION:PT1440M
X-PUBLISHED-TTL:PT1440M
BEGIN:VTIMEZONE
TZID:Europe/Stockholm
BEGIN:STANDARD
DTSTART:20251026T030000Z
TZOFFSETFROM:+0200
TZOFFSETTO:+0100
END:STANDARD
BEGIN:DAYLIGHT
DTSTART:20260329T020000Z
TZOFFSETFROM:+0100
TZOFFSETTO:+0200
END:DAYLIGHT
END:VTIMEZONE
BEGIN:VTIMEZONE
TZID:UTC
BEGIN:STANDARD
DTSTART:20250725T124500Z
TZOFFSETFROM:+0000
TZOFFSETTO:+0000
END:STANDARD
END:VTIMEZONE
BEGIN:VEVENT
UID:707-350
DTSTAMP:20260421T124500Z
SUMMARY:Bokat Skolgruppen Påskaktivitet 13:30 - 17:30
LOCATION:Hembygdsgården
ORGANIZER;CN=Lena Bengtsson:MAILTO:lena.bengtsson@me.com
DTSTART;TZID=Europe/Stockholm:20260403T133000
DTEND;TZID=Europe/Stockholm:20260403T173000
X-ALT-DESC;FMTTYPE=TEXT/HTML:För mer info - se Facebook \"Runmarö Anslags
 tavla\" samt Intresseföreningens hemsida runmaroifokus.se
CATEGORIES:Bokat
URL;VALUE=URI:https://xn--runmarhembygdsfrening-mecj.se/verksamheter/kalend
 arium/?mc_id=707&#038;vcal=707
METHOD:PUBLISH
END:VEVENT
END:VCALENDAR