BEGIN:VCALENDAR
VERSION:2.0
PRODID:spatie/icalendar-generator
DESCRIPTION:Händelser från Runmarö Hembygdsförening
X-WR-CALDESC:Händelser från Runmarö Hembygdsförening
REFRESH-INTERVAL;VALUE=DURATION:PT1440M
X-PUBLISHED-TTL:PT1440M
BEGIN:VTIMEZONE
TZID:Europe/Stockholm
BEGIN:STANDARD
DTSTART:20251026T030000Z
TZOFFSETFROM:+0200
TZOFFSETTO:+0100
END:STANDARD
BEGIN:DAYLIGHT
DTSTART:20260329T020000Z
TZOFFSETFROM:+0100
TZOFFSETTO:+0200
END:DAYLIGHT
END:VTIMEZONE
BEGIN:VTIMEZONE
TZID:UTC
BEGIN:STANDARD
DTSTART:20250725T125457Z
TZOFFSETFROM:+0000
TZOFFSETTO:+0000
END:STANDARD
END:VTIMEZONE
BEGIN:VEVENT
UID:709-352
DTSTAMP:20260421T125457Z
SUMMARY:Bokat för teaterföreställningen \"Fågelskådaren\"
LOCATION:Hembygdsgården
ORGANIZER;CN=Lena Bengtsson:MAILTO:lena.bengtsson@me.com
DTSTART;TZID=Europe/Stockholm:20260408T130000
DTEND;TZID=Europe/Stockholm:20260408T200000
X-ALT-DESC;FMTTYPE=TEXT/HTML:Fågelskådaren - från hobby till missbru Sk
 ådespelaren Olof Ramel är slav under sin hobby - som fågelskådare! Jod
 å\, på riktigt! Han kan plötsligt störta iväg från jobb och familj f
 ör att spana efter sällsynta fjäderfän. Nu berättar han öppenhjärti
 gt och skojfriskt om sin svåra last. Då blir det livat i holken på Flor
 a ! Se&amp;hellip\;
CATEGORIES:Bokat
URL;VALUE=URI:https://xn--runmarhembygdsfrening-mecj.se/verksamheter/kalend
 arium/?mc_id=709&#038;vcal=709
METHOD:PUBLISH
END:VEVENT
END:VCALENDAR