BEGIN:VCALENDAR
VERSION:2.0
PRODID:spatie/icalendar-generator
DESCRIPTION:Händelser från Runmarö Hembygdsförening
X-WR-CALDESC:Händelser från Runmarö Hembygdsförening
REFRESH-INTERVAL;VALUE=DURATION:PT1440M
X-PUBLISHED-TTL:PT1440M
BEGIN:VTIMEZONE
TZID:Europe/Stockholm
BEGIN:STANDARD
DTSTART:20251026T030000Z
TZOFFSETFROM:+0200
TZOFFSETTO:+0100
END:STANDARD
BEGIN:DAYLIGHT
DTSTART:20260329T020000Z
TZOFFSETFROM:+0100
TZOFFSETTO:+0200
END:DAYLIGHT
BEGIN:STANDARD
DTSTART:20261025T030000Z
TZOFFSETFROM:+0200
TZOFFSETTO:+0100
END:STANDARD
END:VTIMEZONE
BEGIN:VTIMEZONE
TZID:UTC
BEGIN:STANDARD
DTSTART:20250725T125311Z
TZOFFSETFROM:+0000
TZOFFSETTO:+0000
END:STANDARD
END:VTIMEZONE
BEGIN:VEVENT
UID:715-359
DTSTAMP:20260421T125311Z
SUMMARY:Bokat teatergruppen 10-15
LOCATION:Hembygdsgården
ORGANIZER;CN=Lena Bengtsson:MAILTO:lena.bengtsson@me.com
DTSTART;TZID=Europe/Stockholm:20260503T100000
DTEND;TZID=Europe/Stockholm:20260503T150000
X-ALT-DESC;FMTTYPE=TEXT/HTML:
CATEGORIES:Bokat
URL;VALUE=URI:https://xn--runmarhembygdsfrening-mecj.se/verksamheter/kalend
 arium/?mc_id=715&#038;vcal=715
METHOD:PUBLISH
END:VEVENT
END:VCALENDAR